BEGIN:VCALENDAR
VERSION:2.0
PRODID:-//Use Your Talents - ECPv6.15.20//NONSGML v1.0//EN
CALSCALE:GREGORIAN
METHOD:PUBLISH
X-WR-CALNAME:Use Your Talents
X-ORIGINAL-URL:https://www.useyourtalents.nl
X-WR-CALDESC:Evenementen voor Use Your Talents
REFRESH-INTERVAL;VALUE=DURATION:PT1H
X-Robots-Tag:noindex
X-PUBLISHED-TTL:PT1H
BEGIN:VTIMEZONE
TZID:Europe/Amsterdam
BEGIN:DAYLIGHT
TZOFFSETFROM:+0100
TZOFFSETTO:+0200
TZNAME:CEST
DTSTART:20250330T010000
END:DAYLIGHT
BEGIN:STANDARD
TZOFFSETFROM:+0200
TZOFFSETTO:+0100
TZNAME:CET
DTSTART:20251026T010000
END:STANDARD
BEGIN:DAYLIGHT
TZOFFSETFROM:+0100
TZOFFSETTO:+0200
TZNAME:CEST
DTSTART:20260329T010000
END:DAYLIGHT
BEGIN:STANDARD
TZOFFSETFROM:+0200
TZOFFSETTO:+0100
TZNAME:CET
DTSTART:20261025T010000
END:STANDARD
BEGIN:DAYLIGHT
TZOFFSETFROM:+0100
TZOFFSETTO:+0200
TZNAME:CEST
DTSTART:20270328T010000
END:DAYLIGHT
BEGIN:STANDARD
TZOFFSETFROM:+0200
TZOFFSETTO:+0100
TZNAME:CET
DTSTART:20271031T010000
END:STANDARD
END:VTIMEZONE
BEGIN:VEVENT
DTSTART;VALUE=DATE:20260520
DTEND;VALUE=DATE:20260521
DTSTAMP:20260419T150517
CREATED:20251223T160023Z
LAST-MODIFIED:20260401T153741Z
UID:21123-1779235200-1779321599@www.useyourtalents.nl
SUMMARY:Leren (Team) Coachen
DESCRIPTION:Een aanrader voor alle professionals\, leiders\, (team) coaches of consultants die hun (team) coachvaardigheden willen perfectioneren. Maximaal 12 deelnemers.
URL:https://www.useyourtalents.nl/evenement/leren-team-coachen-8/
ATTACH;FMTTYPE=image/jpeg:https://www.useyourtalents.nl/wp-content/uploads/2019/04/UYT-social_10.jpg
ORGANIZER;CN="Use Your Talents":MAILTO:info@useyourtalents.nl
END:VEVENT
BEGIN:VEVENT
DTSTART;VALUE=DATE:20260527
DTEND;VALUE=DATE:20260528
DTSTAMP:20260419T150517
CREATED:20240403T132906Z
LAST-MODIFIED:20260401T154736Z
UID:15736-1779840000-1779926399@www.useyourtalents.nl
SUMMARY:Effectief & Talentgericht Leiderschap
DESCRIPTION:Ben jij een leider\, ondernemer\, coach/adviseur of projectleider? En ben je eraan toe om intensief aan jouw persoonlijke leiderschap skills te werken\, zodat jouw identiteit als leider verstevigt en jouw invloed in groepen vergroot? Neem dan deel aan dit exclusieve programma waarvoor maximaal 10 plaatsen beschikbaar zijn.
URL:https://www.useyourtalents.nl/evenement/effectief-talentgericht-leiderschap-6/
LOCATION:Allekante\, Houtakkerstraat 1\, Breda\, 4837 BT
ATTACH;FMTTYPE=image/jpeg:https://www.useyourtalents.nl/wp-content/uploads/2021/04/UYT-1.5m.jpg
ORGANIZER;CN="Use Your Talents":MAILTO:info@useyourtalents.nl
END:VEVENT
BEGIN:VEVENT
DTSTART;VALUE=DATE:20260930
DTEND;VALUE=DATE:20261001
DTSTAMP:20260419T150517
CREATED:20250528T164304Z
LAST-MODIFIED:20251209T151757Z
UID:20289-1790726400-1790812799@www.useyourtalents.nl
SUMMARY:Effectief & Talentgericht Leiderschap
DESCRIPTION:Ben jij een leider\, ondernemer\, coach/adviseur of projectleider? En ben je eraan toe om intensief aan jouw persoonlijke leiderschap skills te werken zodat jouw identiteit als leider verstevigt en jouw invloed in groepen vergroot? Neem dan deel aan dit exclusieve programma waarvoor maximaal 10 plaatsen beschikbaar zijn.
URL:https://www.useyourtalents.nl/evenement/effectief-talentgericht-leiderschap-5/
LOCATION:Allekante\, Houtakkerstraat 1\, Breda\, 4837 BT
ATTACH;FMTTYPE=image/jpeg:https://www.useyourtalents.nl/wp-content/uploads/2021/04/UYT-1.5m.jpg
ORGANIZER;CN="Use Your Talents":MAILTO:info@useyourtalents.nl
END:VEVENT
BEGIN:VEVENT
DTSTART;VALUE=DATE:20261007
DTEND;VALUE=DATE:20261008
DTSTAMP:20260419T150517
CREATED:20251211T153209Z
LAST-MODIFIED:20251211T153641Z
UID:21046-1791331200-1791417599@www.useyourtalents.nl
SUMMARY:Leren (Team) Coachen
DESCRIPTION:Een aanrader voor alle professionals\, leiders\, (team) coaches of consultants die hun (team) coachvaardigheden willen perfectioneren. Maximaal 12 deelnemers.
URL:https://www.useyourtalents.nl/evenement/leren-team-coachen-6/
LOCATION:Allekante\, Houtakkerstraat 1\, Breda\, 4837 BT
ATTACH;FMTTYPE=image/jpeg:https://www.useyourtalents.nl/wp-content/uploads/2019/04/UYT-social_10.jpg
ORGANIZER;CN="Use Your Talents":MAILTO:info@useyourtalents.nl
END:VEVENT
BEGIN:VEVENT
DTSTART;VALUE=DATE:20261008
DTEND;VALUE=DATE:20261009
DTSTAMP:20260419T150517
CREATED:20251211T152459Z
LAST-MODIFIED:20251211T152459Z
UID:21044-1791417600-1791503999@www.useyourtalents.nl
SUMMARY:Systemisch Leiderschap
DESCRIPTION:Doorzie het systeem. Breng beweging. Leiderschap op een diepere laag. \nStap in een vernieuwende leiderschapsreis waarin je leert werken met wat er écht speelt in teams en organisaties. Ontdek krachtige methodieken zoals Deep Democracy en systeemintelligentie\, en ontwikkel de tools om duurzaam verschil te maken.
URL:https://www.useyourtalents.nl/evenement/systemisch-leiderschap-4/
LOCATION:Allekante\, Houtakkerstraat 1\, Breda\, 4837 BT
ATTACH;FMTTYPE=image/jpeg:https://www.useyourtalents.nl/wp-content/uploads/2024/09/UYT-final_72.jpg
ORGANIZER;CN="Use Your Talents":MAILTO:info@useyourtalents.nl
END:VEVENT
BEGIN:VEVENT
DTSTART;VALUE=DATE:20261028
DTEND;VALUE=DATE:20261029
DTSTAMP:20260419T150517
CREATED:20251209T152847Z
LAST-MODIFIED:20251211T153341Z
UID:21037-1793145600-1793231999@www.useyourtalents.nl
SUMMARY:Effectief & Talentgericht Leiderschap
DESCRIPTION:Ben jij een leider\, ondernemer\, coach/adviseur of projectleider? En ben je eraan toe om intensief aan jouw persoonlijke leiderschapsvaardigheden te werken? Neem dan contact met ons op voor dit exclusieve programma\, waar maximaal 10 plaatsen beschikbaar zijn. Voor deelname gelden geen specifieke vooropleidingseisen.
URL:https://www.useyourtalents.nl/evenement/effectief-talentgericht-leiderschap-7/
LOCATION:Allekante\, Houtakkerstraat 1\, Breda\, 4837 BT
ATTACH;FMTTYPE=image/jpeg:https://www.useyourtalents.nl/wp-content/uploads/2021/04/UYT-1.5m.jpg
END:VEVENT
END:VCALENDAR